BEGIN:VCALENDAR
VERSION:2.0
PRODID:-//AFM Local 135-211 - ECPv6.15.20//NONSGML v1.0//EN
CALSCALE:GREGORIAN
METHOD:PUBLISH
X-ORIGINAL-URL:https://local135-211.afmquartet.org
X-WR-CALDESC:Events for AFM Local 135-211
REFRESH-INTERVAL;VALUE=DURATION:PT1H
X-Robots-Tag:noindex
X-PUBLISHED-TTL:PT1H
BEGIN:VTIMEZONE
TZID:America/New_York
BEGIN:DAYLIGHT
TZOFFSETFROM:-0500
TZOFFSETTO:-0400
TZNAME:EDT
DTSTART:20240310T070000
END:DAYLIGHT
BEGIN:STANDARD
TZOFFSETFROM:-0400
TZOFFSETTO:-0500
TZNAME:EST
DTSTART:20241103T060000
END:STANDARD
BEGIN:DAYLIGHT
TZOFFSETFROM:-0500
TZOFFSETTO:-0400
TZNAME:EDT
DTSTART:20250309T070000
END:DAYLIGHT
BEGIN:STANDARD
TZOFFSETFROM:-0400
TZOFFSETTO:-0500
TZNAME:EST
DTSTART:20251102T060000
END:STANDARD
BEGIN:DAYLIGHT
TZOFFSETFROM:-0500
TZOFFSETTO:-0400
TZNAME:EDT
DTSTART:20260308T070000
END:DAYLIGHT
BEGIN:STANDARD
TZOFFSETFROM:-0400
TZOFFSETTO:-0500
TZNAME:EST
DTSTART:20261101T060000
END:STANDARD
END:VTIMEZONE
BEGIN:VEVENT
DTSTART;TZID=America/New_York:20250402T180000
DTEND;TZID=America/New_York:20250402T203000
DTSTAMP:20260425T062603
CREATED:20250212T150830Z
LAST-MODIFIED:20250212T150830Z
UID:1503-1743616800-1743625800@local135-211.afmquartet.org
SUMMARY:Hesse's Hot Jazz
DESCRIPTION:Chris Heslop returns to the Peanut Bar with is hot jazz group. New Orleans favorites performed by Chris on sax/clar/washboard\, Bob Kreitz on piano\, Ben Mauger -trumpet\, Bob Peruzzi-trombone\, Bruce Campbell-bass\, and Doug Kulp-drums.  \nReservations: (610) 376-8500
URL:https://local135-211.afmquartet.org/event/hesses-hot-jazz/
LOCATION:Jimmie Kramer’s Peanut Bar\, 332 Penn Street\, Reading\, PA\, 19602\, United States
CATEGORIES:live performance
END:VEVENT
END:VCALENDAR