BEGIN:VCALENDAR
VERSION:2.0
PRODID:-//AFM Local 135-211 - ECPv6.15.20//NONSGML v1.0//EN
CALSCALE:GREGORIAN
METHOD:PUBLISH
X-WR-CALNAME:AFM Local 135-211
X-ORIGINAL-URL:https://local135-211.afmquartet.org
X-WR-CALDESC:Events for AFM Local 135-211
REFRESH-INTERVAL;VALUE=DURATION:PT1H
X-Robots-Tag:noindex
X-PUBLISHED-TTL:PT1H
BEGIN:VTIMEZONE
TZID:America/New_York
BEGIN:DAYLIGHT
TZOFFSETFROM:-0500
TZOFFSETTO:-0400
TZNAME:EDT
DTSTART:20250309T070000
END:DAYLIGHT
BEGIN:STANDARD
TZOFFSETFROM:-0400
TZOFFSETTO:-0500
TZNAME:EST
DTSTART:20251102T060000
END:STANDARD
BEGIN:DAYLIGHT
TZOFFSETFROM:-0500
TZOFFSETTO:-0400
TZNAME:EDT
DTSTART:20260308T070000
END:DAYLIGHT
BEGIN:STANDARD
TZOFFSETFROM:-0400
TZOFFSETTO:-0500
TZNAME:EST
DTSTART:20261101T060000
END:STANDARD
BEGIN:DAYLIGHT
TZOFFSETFROM:-0500
TZOFFSETTO:-0400
TZNAME:EDT
DTSTART:20270314T070000
END:DAYLIGHT
BEGIN:STANDARD
TZOFFSETFROM:-0400
TZOFFSETTO:-0500
TZNAME:EST
DTSTART:20271107T060000
END:STANDARD
END:VTIMEZONE
BEGIN:VEVENT
DTSTART;TZID=America/New_York:20260422T180000
DTEND;TZID=America/New_York:20260422T210000
DTSTAMP:20260422T014238
CREATED:20260211T201053Z
LAST-MODIFIED:20260211T210231Z
UID:1645-1776880800-1776891600@local135-211.afmquartet.org
SUMMARY:Public performance: Union Jazz Jam
DESCRIPTION:The annual AFM 135-211 Jazz Jam will take place on Wednesday\, April 22 2026 from 6pm-9pm at the Beverly Hills Tavern. \nAll are welcome to jam.  \n\n\nAddress: 710 Old Fritztown Rd\, Reading\, PA 19608\n\n\n\n\nPhone: (610) 777-4516\n\n\n\n\n\nMenu: beverlyhillstavern.biz
URL:https://local135-211.afmquartet.org/event/public-performance-union-jazz-jam/
END:VEVENT
END:VCALENDAR